BEGIN:VCALENDAR
VERSION:2.0
PRODID:-//ChamberMaster//Event Calendar 2.0//EN
METHOD:PUBLISH
X-PUBLISHED-TTL:P3D
REFRESH-INTERVAL:P3D
CALSCALE:GREGORIAN
BEGIN:VEVENT
DTSTART;VALUE=DATE:20290324
DTEND;VALUE=DATE:20290325
TRANSP:TRANSPARENT
X-MICROSOFT-CDO-ALLDAYEVENT:TRUE
SUMMARY:Carolina International CCI & HT
DESCRIPTION:The Carolina International CCI & HT is the largest event held at the Carolina Horse Park each year with thousands of people attending. The event runs March 24-27\, 2022\, and there is no fee to spectate. Enjoy the highest level of equestrian sport along with 2 vendor villages\, food trucks\, activities and more.
X-ALT-DESC;FMTTYPE=text/html:The Carolina International CCI &amp\; HT is the largest event held at the Carolina Horse Park each year with thousands of people attending. The event runs March 24-27\, 2022\, and there is no fee to spectate. Enjoy the highest level of equestrian sport along with 2 vendor villages\, food trucks\, activities and more.
LOCATION:2814 Montrose Road\, Raeford\, NC 28376
UID:e.834.13014
SEQUENCE:3
DTSTAMP:20260421T154233Z
URL:http://members.moorecountychamber.com/events/details/carolina-international-cci-ht-03-24-2029-13014
END:VEVENT

END:VCALENDAR
