BEGIN:VCALENDAR
VERSION:2.0
PRODID:-//ChamberMaster//Event Calendar 2.0//EN
METHOD:PUBLISH
X-PUBLISHED-TTL:P3D
REFRESH-INTERVAL:P3D
CALSCALE:GREGORIAN
BEGIN:VEVENT
DTSTART:20240509T210000Z
DTEND:20240509T223000Z
X-MICROSOFT-CDO-ALLDAYEVENT:FALSE
SUMMARY:CONNECT @ Double Eagle Entertainment
DESCRIPTION:Join us for an after hours networking event at Double Eagle Entertainment!\n\nBring business cards and a friend\, join us for a night out.
X-ALT-DESC;FMTTYPE=text/html:Join us for an after hours networking event at Double Eagle Entertainment!<br />\nBring business cards and a friend\, join us for a night out.&nbsp\;
LOCATION:
UID:e.834.13260
SEQUENCE:3
DTSTAMP:20260423T201748Z
URL:http://members.moorecountychamber.com/events/details/connect-double-eagle-entertainment-13260
END:VEVENT

END:VCALENDAR
