BEGIN:VCALENDAR
VERSION:2.0
PRODID:-//ChamberMaster//Event Calendar 2.0//EN
METHOD:PUBLISH
X-PUBLISHED-TTL:P3D
REFRESH-INTERVAL:P3D
CALSCALE:GREGORIAN
BEGIN:VEVENT
DTSTART:20181027T120000Z
DTEND:20181028T230000Z
X-MICROSOFT-CDO-ALLDAYEVENT:FALSE
SUMMARY:Folds of Honor 2-Man Scramble Golf Tournament presented by FCC North Carolina
DESCRIPTION:Help us raise 1 full scholarship for the Folds of Honor Foundation\n\nFolds of Honor provides scholarship to children of fallen or disabled soldiers\n\n*NO HANDICAP! Players are flighted after Saturdays round.  Breakout rule will be in effect on Sunday.\n\n*Three (3) Sets of Tees Based on Age:  Blue Tees: 49 & below.  Yellow Tees: 50   64.  Green Tees: 65+.\n\n* Prize Awards per Flight (6 Flights)*\n\n1st $750/Player   2nd $500/Player   3rd $300/Player   $150/Player   $75/Player\n\nSign up today\, pay by September 1\, 2018 for guaranteed entry.   Deadline September 1st or until field is full at 96 teams. \n\nField is full based on first 96 teams paid by September 1st\, 2018.  Waiting list will available.\n\n**Disclaimer**  Flights are based on the number of entries.  Deercroft reserves the right to reduce the number of flights based on the number of entries.
X-ALT-DESC;FMTTYPE=text/html:<p style="text-align:center"><span style="color:#FF0000"><big><strong>Help us raise 1 full scholarship for the Folds of Honor Foundation<br />\nFolds of Honor provides scholarship to children of fallen or disabled soldiers</strong></big></span></p>\n\n<p style="text-align:center">*NO HANDICAP! Players are flighted after Saturdays round.&nbsp\;&nbsp\;<strong>Breakout rule will be in effect on Sunday.</strong></p>\n\n<p style="text-align:center">*Three (3) Sets of Tees Based on Age:&nbsp\; Blue Tees: 49 &amp\; below.&nbsp\; Yellow Tees: 50 &ndash\; 64.&nbsp\; Green Tees: 65+.</p>\n\n<p style="text-align:center">* Prize Awards per Flight&nbsp\;<strong>(6 Flights)*</strong></p>\n\n<p style="text-align:center">1<sup>st</sup>&nbsp\;$750/Player &bull\; 2<sup>nd</sup>&nbsp\;$500/Player &bull\; 3<sup>rd</sup>&nbsp\;$300/Player &bull\; $150/Player &bull\; $75/Player</p>\n\n<h6 style="text-align:center"><span style="color:rgb(128\, 0\, 0)"><strong><em>Sign up today\, pay by September 1\, 2018 for guaranteed entry.&nbsp\; &nbsp\;Deadline September 1<sup>st</sup>&nbsp\;or until field is full at 96 teams.&nbsp\;</em></strong></span></h6>\n\n<h6 style="text-align:center"><span style="color:rgb(128\, 0\, 0)"><strong><em>Field is full based on first 96 teams paid by September 1st\, 2018.&nbsp\; Waiting list will available.</em></strong></span></h6>\n\n<h6 style="text-align:center"><span style="color:rgb(128\, 0\, 0)"><strong><em>**Disclaimer**&nbsp\; Flights are based on the number of entries.&nbsp\; Deercroft reserves the right to reduce the number of flights based on the number of entries.</em></strong></span></h6>\n
LOCATION:Deercroft Golf Club 30000 Deercroft Drive Wagram\, NC 28396
UID:e.834.7255
SEQUENCE:3
DTSTAMP:20260421T091417Z
URL:http://members.moorecountychamber.com/events/details/folds-of-honor-2-man-scramble-golf-tournament-presented-by-fcc-north-carolina-7255
END:VEVENT

END:VCALENDAR
