BEGIN:VCALENDAR
VERSION:2.0
PRODID:-//ChamberMaster//Event Calendar 2.0//EN
METHOD:PUBLISH
X-PUBLISHED-TTL:P3D
REFRESH-INTERVAL:P3D
CALSCALE:GREGORIAN
BEGIN:VEVENT
DTSTART;VALUE=DATE:20240717
DTEND;VALUE=DATE:20240718
TRANSP:TRANSPARENT
X-MICROSOFT-CDO-ALLDAYEVENT:TRUE
SUMMARY:Mega Force Open Interviews
DESCRIPTION:Mega Force is hosting an Open Interviews Event Wednesday 7/17/2024 from 10:00am -2:00pm. We have variety of positions available\, machine operator\, general labor\, warehouse\, clerical\, and janitorial. There will be light refreshments served.    If you know anyone looking for employment please send them our way or give them our number.  We will be happy to assist.  J\n\n \n\nMega Force Southern Pines\n\nAddress: 160 Pinehurst Ave\, Suite B\, Southern Pines\, NC\, 28387\n\nWhen : Wednesday 7/17/2024 from 10am -2pm
X-ALT-DESC;FMTTYPE=text/html:Mega Force is hosting an Open Interviews Event Wednesday 7/17/2024 from 10:00am -2:00pm. We have variety of positions available\, machine operator\, general labor\, warehouse\, clerical\, and janitorial. There will be light refreshments served.&nbsp\; &nbsp\;&nbsp\;If you know anyone looking for employment please send them our way or give them our number.&nbsp\; We will be happy to assist.&nbsp\; <span style="font-family:wingdings">J</span><br />\n&nbsp\;<br />\nMega Force Southern Pines<br />\n<span style="font-family:calibri\,sans-serif"><span style="font-size:11.0pt">Address: 160 Pinehurst Ave\, Suite B\, Southern Pines\, NC\, 28387<br />\nWhen : Wednesday 7/17/2024 from 10am -2pm</span></span>
LOCATION:Mega Force Staffing Southern Pines Office Address: 160 Pinehurst Ave\, Suite B\, Southern Pines\, NC\, 28387
UID:e.834.13315
SEQUENCE:3
DTSTAMP:20260419T173852Z
URL:http://members.moorecountychamber.com/events/details/mega-force-open-interviews-13315
END:VEVENT

END:VCALENDAR
