BEGIN:VCALENDAR
VERSION:2.0
PRODID:-//ChamberMaster//Event Calendar 2.0//EN
METHOD:PUBLISH
X-PUBLISHED-TTL:P3D
REFRESH-INTERVAL:P3D
CALSCALE:GREGORIAN
BEGIN:VEVENT
DTSTART:20190207T143000Z
DTEND:20190207T173000Z
X-MICROSOFT-CDO-ALLDAYEVENT:FALSE
SUMMARY:Moore County Schools Career Fair
DESCRIPTION:You're invited...\n\nMoore County Schools Annual Career Fair at\n\nPinecrest High on\n\nThursday\, February 07\, 2019!\n\n \n\nTake time to showcase your industry\, your career\, and your skills to Moore County Schools (MCS) students. Helping these students explore various work experiences through one-on-one discussions about careers\, workplace skills\, part-time job opportunities\, job shadowing and internships with your business or organization is appreciated! Select middle school students and students from North Moore High\, Pinecrest High and Union Pines High are all invited to attend.\n\nIf your business is interested in participating in the Career Fair\, please use the link below to sign up before December 21\, 2019. \n\nhttps://tinyurl.com/careerfair2019phs\n\nWe hope to see a large turnout from the Moore County Business Community. Thank you for supporting our next generation work force.
X-ALT-DESC;FMTTYPE=text/html:<div class="freebirdFormviewerViewHeaderTitleRow" style="align-items: center\; color: rgba(0\, 0\, 0\, 0.87)\; display: flex\; flex-wrap: wrap\; font-family: Roboto\, RobotoDraft\, Helvetica\, Arial\, sans-serif\; font-size: 16px\; font-variant-numeric: normal\; font-variant-east-asian: normal\; justify-content: space-between\; padding-left: 34px\; padding-right: 34px\;">\n<p aria-level="1" class="freebirdFormviewerViewHeaderTitle exportFormTitle freebirdCustomFont" dir="auto" role="heading" style="box-sizing: border-box\; font-size: 34px\; line-height: 45.33px\; max-width: 572px\; min-width: 0px\; text-align: center\;"><strong><span style="font-size:20.0pt\;">You&#39\;re invited...</span></strong><br />\n<strong><span style="font-size:20.0pt\;">Moore County Schools Annual Career Fair at</span></strong><br />\n<strong><span style="font-size:20.0pt\;">Pinecrest High on</span></strong><br />\n<strong><span style="font-size:20.0pt\;">Thursday\, February 07\, 2019!</span></strong><br />\n&nbsp\;</p>\n\n<p aria-level="1" class="freebirdFormviewerViewHeaderTitle exportFormTitle freebirdCustomFont" dir="auto" role="heading" style="box-sizing: border-box\; font-size: 34px\; line-height: 45.33px\; max-width: 572px\; min-width: 0px\;"><span style="font-size:14.0pt\;">Take time to showcase your industry\, your career\, and your skills to Moore County Schools (MCS) students. Helping these students explore various work experiences through one-on-one discussions about careers\, workplace skills\, part-time job opportunities\, job shadowing and internships with your business or organization is appreciated! Select middle school students and students from North Moore High\, Pinecrest High and Union Pines High are all invited to attend.</span><br />\n<span style="font-size:14.0pt\;">If your business is interested in participating in the Career Fair\, please use the link below to sign up before December 21\, 2019. </span><br />\n<span style="font-size:14.0pt\;"><a href="https://tinyurl.com/careerfair2019phs">https://tinyurl.com/careerfair2019phs</a></span><br />\n<span style="font-size:14.0pt\;">We hope to see a large turnout from the Moore County Business Community. Thank you for supporting our next generation work force.</span></p>\n</div>\n
LOCATION:Pinecrest High School James H. Moore Gymnasium 250 Voit Gilmore Ln Southern Pines\, NC 28387
UID:e.834.7416
SEQUENCE:3
DTSTAMP:20260425T002829Z
URL:http://members.moorecountychamber.com/events/details/moore-county-schools-career-fair-7416
END:VEVENT

END:VCALENDAR
