BEGIN:VCALENDAR
VERSION:2.0
PRODID:-//ChamberMaster//Event Calendar 2.0//EN
METHOD:PUBLISH
X-PUBLISHED-TTL:P3D
REFRESH-INTERVAL:P3D
CALSCALE:GREGORIAN
BEGIN:VEVENT
DTSTART:20230502T203000Z
DTEND:20230502T213000Z
X-MICROSOFT-CDO-ALLDAYEVENT:FALSE
SUMMARY:New Member Social
DESCRIPTION:New Member Social (all members welcome)
X-ALT-DESC;FMTTYPE=text/html:New Member Social (all members welcome)&nbsp\;
LOCATION:160 W New York Ave Southern Pines
UID:e.834.13140
SEQUENCE:3
DTSTAMP:20260422T132447Z
URL:http://members.moorecountychamber.com/events/details/new-member-social-13140
END:VEVENT

END:VCALENDAR
