BEGIN:VCALENDAR
VERSION:2.0
PRODID:-//ChamberMaster//Event Calendar 2.0//EN
METHOD:PUBLISH
X-PUBLISHED-TTL:P3D
REFRESH-INTERVAL:P3D
CALSCALE:GREGORIAN
BEGIN:VEVENT
DTSTART:20221011T160000Z
DTEND:20221011T170000Z
X-MICROSOFT-CDO-ALLDAYEVENT:FALSE
SUMMARY:Ribbon Cutting with Select Physical Therapy
DESCRIPTION:Join us for a grand opening celebration & ribbon cutting with Select PT!
X-ALT-DESC;FMTTYPE=text/html:Join us for a grand opening celebration &amp\; ribbon cutting with Select PT!
LOCATION:Pinecrest Plaza 10205 Hwy 15-501 Suite 24 Southern Pines\, NC
UID:e.834.13113
SEQUENCE:3
DTSTAMP:20260420T110559Z
URL:http://members.moorecountychamber.com/events/details/ribbon-cutting-with-select-physical-therapy-13113
END:VEVENT

END:VCALENDAR
