BEGIN:VCALENDAR
VERSION:2.0
PRODID:-//ChamberMaster//Event Calendar 2.0//EN
METHOD:PUBLISH
X-PUBLISHED-TTL:P3D
REFRESH-INTERVAL:P3D
CALSCALE:GREGORIAN
BEGIN:VEVENT
DTSTART:20250505T230000Z
DTEND:20250506T001500Z
X-MICROSOFT-CDO-ALLDAYEVENT:FALSE
SUMMARY:David Anthony - Comedy Hypnosis (BPAC Comedy Series)
DESCRIPTION:Imagine the person that was sitting next to you just a few minutes ago is now up on stage and can't remember their own name! Or better yet one of your friends is up on the stage claiming that their belly button was stolen. Then with a snap of David Anthony's fingers they enter back into a hypnotic trance. Sounds entertaining huh? This is just the beginning of what to expect in the show.No one is forced to volunteer. David will invite anyone who wants to get hypnotized to join him and fill the 15-20 chairs that are on stage. In just a few moments your friends and the rest of the volunteers fall into a hypnotic trance. Then the fun begins! It is comedy like no other. Mainly because YOU and YOUR FRIENDS are the stars of the show!
X-ALT-DESC;FMTTYPE=text/html:Imagine the person that was sitting next to you just a few minutes ago is now up on stage and can&rsquo\;t remember their own name! Or better yet one of your friends is up on the stage claiming that their belly button was stolen. Then with a snap of David Anthony&rsquo\;s fingers they enter back into a hypnotic trance. Sounds entertaining huh? This is just the beginning of what to expect in the show.No one is forced to volunteer. David will invite anyone who wants to get hypnotized to join him and fill the 15-20 chairs that are on stage. In just a few moments your friends and the rest of the volunteers fall into a hypnotic trance. Then the fun begins! It is comedy like no other. Mainly because YOU and YOUR FRIENDS are the stars of the show!
LOCATION:Owens Auditorium at Bradshaw Performing Arts Center (BPAC) 3395 Airport Road Pinehurst\, NC 28374
UID:e.834.13425
SEQUENCE:3
DTSTAMP:20260420T085649Z
URL:https://members.moorecountychamber.com/events/details/david-anthony-comedy-hypnosis-bpac-comedy-series-13425
END:VEVENT

END:VCALENDAR
