BEGIN:VCALENDAR
VERSION:2.0
PRODID:-//ChamberMaster//Event Calendar 2.0//EN
METHOD:PUBLISH
X-PUBLISHED-TTL:P3D
REFRESH-INTERVAL:P3D
CALSCALE:GREGORIAN
BEGIN:VEVENT
DTSTART:20241014T153000Z
DTEND:20241014T163000Z
X-MICROSOFT-CDO-ALLDAYEVENT:FALSE
SUMMARY:Ribbon Cutting - Vista Oral Surgery and Implants
DESCRIPTION:Join us for a Ribbon Cutting Celebration for Vista Oral Surgery and Implants
X-ALT-DESC;FMTTYPE=text/html:Join us for a Ribbon Cutting Celebration for Vista Oral Surgery and Implants&nbsp\;<br />\n&nbsp\;
LOCATION:VISTA Oral Surgery & Implants 11220 US-15/501\, Suite B Aberdeen\, NC 28315
UID:e.834.13370
SEQUENCE:3
DTSTAMP:20260420T142653Z
URL:https://members.moorecountychamber.com/events/details/ribbon-cutting-vista-oral-surgery-and-implants-13370
END:VEVENT

END:VCALENDAR
