BEGIN:VCALENDAR
VERSION:2.0
PRODID:-//ChamberMaster//Event Calendar 2.0//EN
METHOD:PUBLISH
X-PUBLISHED-TTL:P3D
REFRESH-INTERVAL:P3D
CALSCALE:GREGORIAN
BEGIN:VEVENT
DTSTART:20250224T150000Z
DTEND:20250224T193000Z
X-MICROSOFT-CDO-ALLDAYEVENT:FALSE
SUMMARY:Taking the Leap into Salon Booth or Suite Renting - Starting a Cosmetology Business Seminar
DESCRIPTION:The hair\, nail\, and beauty industry\, to include barbers\, is a very rewarding and beneficial career that provides many opportunities.\n\nThe downfall is that many embark on the journey of entrepreneurship without knowing and understanding the entire process to start a business as a salon booth or suite renter and operate the business beyond providing a service. We provide a guide that outlines the basic tools\, sites\, and information to help start and operate a successful business. Topics covered: making it legit\, finding a space\, landlord questions\, handling money\, supplies & product purchasing\, branding\, menu and pricing\, appointment booking\, web presence\, and taxes.\n\n\n*After current licensed professional complete the emailed survey from the Small Business Center\, he/she will receive a certificate of completion with 4 CEUs for their records.
X-ALT-DESC;FMTTYPE=text/html:<div>\n<p><em>The hair\, nail\, and beauty industry\, to include barbers\, is a very rewarding and beneficial career that provides many opportunities.</em></p>\n\n<p>The downfall is that many embark on the journey of entrepreneurship without knowing and understanding the entire process to start a business as a salon booth or suite renter and operate the business beyond providing a service. We provide a guide that outlines the basic tools\, sites\, and information to help start and operate a successful business. Topics covered: making it legit\, finding a space\, landlord questions\, handling money\, supplies &amp\; product purchasing\, branding\, menu and pricing\, appointment booking\, web presence\, and taxes.</p>\n</div>\n\n<p>*After current licensed professional complete the emailed survey from the Small Business Center\, he/she will receive a certificate of completion with 4 CEUs for their records.&nbsp\;&nbsp\;&nbsp\;&nbsp\;&nbsp\;&nbsp\;&nbsp\;&nbsp\;</p>\n
LOCATION:Sandhills Community College 3395 Airport Rd Pinehurst NC 28374 Van Dusen Hall Room 102
UID:e.834.13432
SEQUENCE:3
DTSTAMP:20260421T091017Z
URL:https://members.moorecountychamber.com/events/details/taking-the-leap-into-salon-booth-or-suite-renting-starting-a-cosmetology-business-seminar-13432
END:VEVENT

END:VCALENDAR
